BEGIN:VCALENDAR
VERSION:2.0
PRODID:-//Ahmed Bin Mohammed Military College - ECPv5.14.0.4//NONSGML v1.0//EN
CALSCALE:GREGORIAN
METHOD:PUBLISH
X-WR-CALNAME:Ahmed Bin Mohammed Military College
X-ORIGINAL-URL:https://www.abmmc.edu.qa/wp/?lang=en
X-WR-CALDESC:Events for Ahmed Bin Mohammed Military College
REFRESH-INTERVAL;VALUE=DURATION:PT1H
X-Robots-Tag:noindex
X-PUBLISHED-TTL:PT1H
BEGIN:VTIMEZONE
TZID:Europe/Moscow
BEGIN:STANDARD
TZOFFSETFROM:+0300
TZOFFSETTO:+0300
TZNAME:MSK
DTSTART:20240101T000000
END:STANDARD
END:VTIMEZONE
BEGIN:VEVENT
DTSTART;TZID=Europe/Moscow:20240707T080000
DTEND;TZID=Europe/Moscow:20240711T170000
DTSTAMP:20260426T061212
CREATED:20240612T090409Z
LAST-MODIFIED:20240612T090415Z
UID:25888-1720339200-1720717200@www.abmmc.edu.qa
SUMMARY:Final Exams for Summer Semester 1 and 2 / 2024
DESCRIPTION:Ahmed Bin Mohammed Military College is holding the final exams for the Summer 2024 semester for various batches\, 21\, 22 and 23.
URL:https://www.abmmc.edu.qa/wp/event/final-exams-for-summer-semester-1-and-2-2024/?lang=en
LOCATION:Doha
CATEGORIES:upcoming event
ATTACH;FMTTYPE=image/jpeg:https://www.abmmc.edu.qa/wp/wp-content/uploads/2024/06/ABMM5446-scaled.jpg
END:VEVENT
END:VCALENDAR