BEGIN:VCALENDAR
VERSION:2.0
PRODID:-//Ahmed Bin Mohammed Military College - ECPv5.14.0.4//NONSGML v1.0//EN
CALSCALE:GREGORIAN
METHOD:PUBLISH
X-WR-CALNAME:Ahmed Bin Mohammed Military College
X-ORIGINAL-URL:https://www.abmmc.edu.qa/wp/?lang=en
X-WR-CALDESC:Events for Ahmed Bin Mohammed Military College
REFRESH-INTERVAL;VALUE=DURATION:PT1H
X-Robots-Tag:noindex
X-PUBLISHED-TTL:PT1H
BEGIN:VTIMEZONE
TZID:Europe/Moscow
BEGIN:STANDARD
TZOFFSETFROM:+0300
TZOFFSETTO:+0300
TZNAME:MSK
DTSTART:20250101T000000
END:STANDARD
END:VTIMEZONE
BEGIN:VEVENT
DTSTART;TZID=Europe/Moscow:20250518T080000
DTEND;TZID=Europe/Moscow:20250531T170000
DTSTAMP:20260422T043301
CREATED:20250309T112402Z
LAST-MODIFIED:20250309T112419Z
UID:26089-1747555200-1748710800@www.abmmc.edu.qa
SUMMARY:Final Exams for Various Batches for the Spring 2025 Semester
DESCRIPTION:Ahmed Bin Mohammed Military College is hosting the final exams for various batches (22\, 23\, and 24) during the period from May 18 to June 2.
URL:https://www.abmmc.edu.qa/wp/event/final-exams-for-various-batches-for-the-spring-2025-semester-2/?lang=en
LOCATION:Doha
CATEGORIES:upcoming event
ATTACH;FMTTYPE=image/jpeg:https://www.abmmc.edu.qa/wp/wp-content/uploads/2024/06/ABMM5420-scaled.jpg
END:VEVENT
END:VCALENDAR