BEGIN:VCALENDAR
VERSION:2.0
PRODID:-//Ahmed Bin Mohammed Military College - ECPv5.14.0.4//NONSGML v1.0//EN
CALSCALE:GREGORIAN
METHOD:PUBLISH
X-WR-CALNAME:Ahmed Bin Mohammed Military College
X-ORIGINAL-URL:https://www.abmmc.edu.qa/wp/?lang=en
X-WR-CALDESC:Events for Ahmed Bin Mohammed Military College
REFRESH-INTERVAL;VALUE=DURATION:PT1H
X-Robots-Tag:noindex
X-PUBLISHED-TTL:PT1H
BEGIN:VTIMEZONE
TZID:Europe/Moscow
BEGIN:STANDARD
TZOFFSETFROM:+0300
TZOFFSETTO:+0300
TZNAME:MSK
DTSTART:20250101T000000
END:STANDARD
END:VTIMEZONE
BEGIN:VEVENT
DTSTART;TZID=Europe/Moscow:20250608T080000
DTEND;TZID=Europe/Moscow:20250831T170000
DTSTAMP:20260421T221418
CREATED:20250309T110337Z
LAST-MODIFIED:20250309T110354Z
UID:26085-1749369600-1756659600@www.abmmc.edu.qa
SUMMARY:The beginning of the summer semester.
DESCRIPTION:Studies at Ahmed Bin Mohammed Military College will resume immediately after the final exams of the Spring 2025 semester with the Summer 1 and 2 semesters\, scheduled from June 8 to July 17\, 2025.
URL:https://www.abmmc.edu.qa/wp/event/the-beginning-of-the-summer-semester/?lang=en
LOCATION:Doha
CATEGORIES:upcoming event
ATTACH;FMTTYPE=image/png:https://www.abmmc.edu.qa/wp/wp-content/uploads/2024/01/student-class1.png
END:VEVENT
END:VCALENDAR