BEGIN:VCALENDAR
VERSION:2.0
PRODID:-//Ahmed Bin Mohammed Military College - ECPv5.14.0.4//NONSGML v1.0//EN
CALSCALE:GREGORIAN
METHOD:PUBLISH
X-WR-CALNAME:Ahmed Bin Mohammed Military College
X-ORIGINAL-URL:https://www.abmmc.edu.qa/wp
X-WR-CALDESC:Events for Ahmed Bin Mohammed Military College
REFRESH-INTERVAL;VALUE=DURATION:PT1H
X-Robots-Tag:noindex
X-PUBLISHED-TTL:PT1H
BEGIN:VTIMEZONE
TZID:Europe/Moscow
BEGIN:STANDARD
TZOFFSETFROM:+0300
TZOFFSETTO:+0300
TZNAME:MSK
DTSTART:20250101T000000
END:STANDARD
END:VTIMEZONE
BEGIN:VEVENT
DTSTART;TZID=Europe/Moscow:20251203T080000
DTEND;TZID=Europe/Moscow:20251215T170000
DTSTAMP:20260425T165540
CREATED:20251122T122610Z
LAST-MODIFIED:20251122T124807Z
UID:26805-1764748800-1765818000@www.abmmc.edu.qa
SUMMARY:الامتحانات النهائية لجميع الدفعات – خريف 2025
DESCRIPTION:تعلن كلية أحمد بن محمد العسكرية عن عقد الامتحانات النهائية لجميع الدفعات ابتداءً من يوم الأربعاء الموافق 3 ديسمبر 2025 وحتى يوم الاثنين الموافق 15 ديسمبر 2025، في حرم الكلية. وتتمنى الكلية لجميع المرشحين للتعيين كضباط النجاح في امتحاناتهم القادمة.
URL:https://www.abmmc.edu.qa/wp/event/%d8%a7%d9%84%d8%a7%d9%85%d8%aa%d8%ad%d8%a7%d9%86%d8%a7%d8%aa-%d8%a7%d9%84%d9%86%d9%87%d8%a7%d8%a6%d9%8a%d8%a9-%d9%84%d8%ac%d9%85%d9%8a%d8%b9-%d8%a7%d9%84%d8%af%d9%81%d8%b9%d8%a7%d8%aa-%d8%ae/
LOCATION:Ahmed Bin Mohammed Military College (ABMMC)\, Ahmed Bin Mohammed Military College\, Ash-Shahaniyah\, Doha\, Qatar
CATEGORIES:upcoming ara,upcoming event
ATTACH;FMTTYPE=image/jpeg:https://www.abmmc.edu.qa/wp/wp-content/uploads/2024/06/ABMM5420-scaled.jpg
ORGANIZER;CN="Ahmed%20Bin%20Mohammed%20Military%20College%20%28ABMMC%29":MAILTO:info@abmmc.edu.qa
END:VEVENT
END:VCALENDAR