BEGIN:VCALENDAR
VERSION:2.0
PRODID:-//Ahmed Bin Mohammed Military College - ECPv5.14.0.4//NONSGML v1.0//EN
CALSCALE:GREGORIAN
METHOD:PUBLISH
X-WR-CALNAME:Ahmed Bin Mohammed Military College
X-ORIGINAL-URL:https://www.abmmc.edu.qa/wp/?lang=en
X-WR-CALDESC:Events for Ahmed Bin Mohammed Military College
REFRESH-INTERVAL;VALUE=DURATION:PT1H
X-Robots-Tag:noindex
X-PUBLISHED-TTL:PT1H
BEGIN:VTIMEZONE
TZID:Europe/Moscow
BEGIN:STANDARD
TZOFFSETFROM:+0300
TZOFFSETTO:+0300
TZNAME:MSK
DTSTART:20240101T000000
END:STANDARD
END:VTIMEZONE
BEGIN:VEVENT
DTSTART;TZID=Europe/Moscow:20241219T080000
DTEND;TZID=Europe/Moscow:20250105T170000
DTSTAMP:20260425T190022
CREATED:20240911T054943Z
LAST-MODIFIED:20240911T055324Z
UID:25908-1734595200-1736096400@www.abmmc.edu.qa
SUMMARY:Final exams for various batches at the college
DESCRIPTION:The Ahmed Bin Mohammed Military College is conducting final exams for various batches 21\, 22\, and 23\, from December 21 to January 4
URL:https://www.abmmc.edu.qa/wp/event/final-exams-for-various-batches-at-the-college/?lang=en
LOCATION:Doha
CATEGORIES:upcoming event
ATTACH;FMTTYPE=image/jpeg:https://www.abmmc.edu.qa/wp/wp-content/uploads/2024/06/ABMM5446-scaled.jpg
END:VEVENT
END:VCALENDAR